BEGIN:VCALENDAR
VERSION:2.0
PRODID:-//pretix//pretix.eu//
BEGIN:VTIMEZONE
TZID:Europe/Berlin
BEGIN:STANDARD
DTSTART:20001029T040000
RRULE:FREQ=YEARLY;BYDAY=-1SU;BYMONTH=10
TZNAME:CET
TZOFFSETFROM:+0200
TZOFFSETTO:+0100
END:STANDARD
BEGIN:DAYLIGHT
DTSTART:20000326T030000
RRULE:FREQ=YEARLY;BYDAY=-1SU;BYMONTH=3
TZNAME:CEST
TZOFFSETFROM:+0100
TZOFFSETTO:+0200
END:DAYLIGHT
END:VTIMEZONE
BEGIN:VEVENT
UID:pretix-vbh-konzertant.de-vbh-k2425-2-4185887@pretix.eu
DTSTART;TZID=Europe/Berlin:20250503T190000
DTEND;TZID=Europe/Berlin:20250503T200000
DESCRIPTION:Tickets: https://pretix.eu/vbh-konzertant.de/vbh-k2425-2/418588
 7/\nVeranstalter: Von-Busch-Hof Konzertant e.V.
DTSTAMP:20260422T165018Z
LOCATION:Bürgersaal Freinsheim
SUMMARY:Liederabend
END:VEVENT
END:VCALENDAR
