BEGIN:VCALENDAR
VERSION:2.0
PRODID:-//pretix//pretix.eu//
BEGIN:VTIMEZONE
TZID:Europe/Berlin
BEGIN:STANDARD
DTSTART:20001029T040000
RRULE:FREQ=YEARLY;BYDAY=-1SU;BYMONTH=10
TZNAME:CET
TZOFFSETFROM:+0200
TZOFFSETTO:+0100
END:STANDARD
BEGIN:DAYLIGHT
DTSTART:20000326T030000
RRULE:FREQ=YEARLY;BYDAY=-1SU;BYMONTH=3
TZNAME:CEST
TZOFFSETFROM:+0100
TZOFFSETTO:+0200
END:DAYLIGHT
END:VTIMEZONE
BEGIN:VEVENT
UID:pretix-vcdrvsb-ecs-4011606@pretix.eu
DTSTART;TZID=Europe/Berlin:20240103T160000
DTEND;TZID=Europe/Berlin:20240103T170000
DESCRIPTION:Tickets: https://pretix.eu/vcdrvsb/ecs/4011606/\nVeranstalter: 
 VCD Regionalverband Südbaden
DTSTAMP:20260425T204748Z
LOCATION:Romanstr. 2\, Freiburg-Munzingen
SUMMARY:Munzingen 3
END:VEVENT
END:VCALENDAR
