BEGIN:VCALENDAR
VERSION:2.0
PRODID:-//pretix//pretix.eu//
BEGIN:VTIMEZONE
TZID:Europe/Berlin
BEGIN:STANDARD
DTSTART:20001029T040000
RRULE:FREQ=YEARLY;BYDAY=-1SU;BYMONTH=10
TZNAME:CET
TZOFFSETFROM:+0200
TZOFFSETTO:+0100
END:STANDARD
BEGIN:DAYLIGHT
DTSTART:20000326T030000
RRULE:FREQ=YEARLY;BYDAY=-1SU;BYMONTH=3
TZNAME:CEST
TZOFFSETFROM:+0100
TZOFFSETTO:+0200
END:DAYLIGHT
END:VTIMEZONE
BEGIN:VEVENT
UID:pretix-vdfg-atelier-2024-7-0@pretix.eu
DTSTART;TZID=Europe/Berlin:20240708T190000
DTEND;TZID=Europe/Berlin:20240708T203000
DESCRIPTION:Tickets: https://pretix.eu/vdfg/atelier-2024-7/\nEinlass: 08.07
 .2024 18:55\nVeranstalter: VDFG für Europa e.V.
DTSTAMP:20260423T052937Z
LOCATION:Online
SUMMARY:VDFG | Atelier: "Von der Projektidee zur erfolgreichen Finanzierung
  und Umsetzung"
END:VEVENT
END:VCALENDAR
