BEGIN:VCALENDAR
VERSION:2.0
PRODID:-//pretix//pretix.eu//
BEGIN:VTIMEZONE
TZID:Europe/Berlin
BEGIN:STANDARD
DTSTART:20001029T040000
RRULE:FREQ=YEARLY;BYDAY=-1SU;BYMONTH=10
TZNAME:CET
TZOFFSETFROM:+0200
TZOFFSETTO:+0100
END:STANDARD
BEGIN:DAYLIGHT
DTSTART:20000326T030000
RRULE:FREQ=YEARLY;BYDAY=-1SU;BYMONTH=3
TZNAME:CEST
TZOFFSETFROM:+0100
TZOFFSETTO:+0200
END:DAYLIGHT
END:VTIMEZONE
BEGIN:VEVENT
UID:pretix-vdg-Pretour2026-0@pretix.eu
DTSTART;TZID=Europe/Berlin:20260812T180000
DTEND;TZID=Europe/Berlin:20260816T120000
DESCRIPTION:Tickets: https://pretix.eu/vdg/Pretour2026/\nOrganizer: Verband
  Deutscher Garten-Center e.V.
DTSTAMP:20260422T151648Z
LOCATION:24hours Hotel The Trip\, Niddastraße 56–58\, 60329 Frankfurt\, 
 Germany
SUMMARY:Pre-tour 2026
END:VEVENT
END:VCALENDAR
