BEGIN:VCALENDAR
VERSION:2.0
PRODID:-//pretix//pretix.eu//
BEGIN:VTIMEZONE
TZID:Europe/Berlin
BEGIN:STANDARD
DTSTART:20001029T040000
RRULE:FREQ=YEARLY;BYDAY=-1SU;BYMONTH=10
TZNAME:CET
TZOFFSETFROM:+0200
TZOFFSETTO:+0100
END:STANDARD
BEGIN:DAYLIGHT
DTSTART:20000326T030000
RRULE:FREQ=YEARLY;BYDAY=-1SU;BYMONTH=3
TZNAME:CEST
TZOFFSETFROM:+0100
TZOFFSETTO:+0200
END:DAYLIGHT
END:VTIMEZONE
BEGIN:VEVENT
UID:pretix-velokonzept-VeloBerlin-23-0@pretix.eu
DTSTART;TZID=Europe/Berlin:20230506T100000
DTEND;TZID=Europe/Berlin:20230507T180000
DESCRIPTION:Tickets: https://pretix.eu/velokonzept/VeloBerlin-23/\nEinlass:
  06.05.2023 10:00\nVeranstalter: Velokonzept GmbH
DTSTAMP:20260420T094202Z
LOCATION:Flughafen Tempelhof\, Hangar 4 + Outdoor Area\, Columbiadamm 26\, 
 10965 Berlin
SUMMARY:VELOBerlin 2023
END:VEVENT
END:VCALENDAR
