BEGIN:VCALENDAR
VERSION:2.0
PRODID:-//pretix//pretix.eu//
BEGIN:VTIMEZONE
TZID:Europe/Berlin
BEGIN:STANDARD
DTSTART:20001029T040000
RRULE:FREQ=YEARLY;BYDAY=-1SU;BYMONTH=10
TZNAME:CET
TZOFFSETFROM:+0200
TZOFFSETTO:+0100
END:STANDARD
BEGIN:DAYLIGHT
DTSTART:20000326T030000
RRULE:FREQ=YEARLY;BYDAY=-1SU;BYMONTH=3
TZNAME:CEST
TZOFFSETFROM:+0100
TZOFFSETTO:+0200
END:DAYLIGHT
END:VTIMEZONE
BEGIN:VEVENT
UID:pretix-velokonzept-velotransport-2-0@pretix.eu
DTSTART;TZID=Europe/Berlin:20211001T100000
DTEND;TZID=Europe/Berlin:20211001T180000
DESCRIPTION:Tickets: https://pretix.eu/velokonzept/velotransport-2/\nEinlas
 s: 01.10.2021 10:00\nVeranstalter: Velokonzept GmbH
DTSTAMP:20260421T021450Z
LOCATION:MotionLab.Berlin\, Bouchéstr. 12\, 12435 Berlin
SUMMARY:VELOTransport Fachkonferenz
END:VEVENT
END:VCALENDAR
