BEGIN:VCALENDAR
VERSION:2.0
PRODID:-//pretix//pretix.eu//
BEGIN:VTIMEZONE
TZID:Europe/Berlin
BEGIN:STANDARD
DTSTART:20001029T040000
RRULE:FREQ=YEARLY;BYDAY=-1SU;BYMONTH=10
TZNAME:CET
TZOFFSETFROM:+0200
TZOFFSETTO:+0100
END:STANDARD
BEGIN:DAYLIGHT
DTSTART:20000326T030000
RRULE:FREQ=YEARLY;BYDAY=-1SU;BYMONTH=3
TZNAME:CEST
TZOFFSETFROM:+0100
TZOFFSETTO:+0200
END:DAYLIGHT
END:VTIMEZONE
BEGIN:VEVENT
UID:pretix-veltinchen-tickets-4490286@pretix.eu
DTSTART;TZID=Europe/Berlin:20250426T100000
DTEND;TZID=Europe/Berlin:20250426T140000
DESCRIPTION:Tickets: https://pretix.eu/veltinchen/tickets/4490286/\nVeranst
 alter: Veltinchen
DTSTAMP:20260420T141107Z
LOCATION:Veltinchen\, Parkallee 11\, 16727 Velten
SUMMARY:Veltinchen Indoorspielplatz Wochenende\, Feiertag sowie Ferien
END:VEVENT
END:VCALENDAR
