BEGIN:VCALENDAR
VERSION:2.0
PRODID:-//pretix//pretix.eu//
BEGIN:VTIMEZONE
TZID:Europe/Rome
BEGIN:STANDARD
DTSTART:20001029T040000
RRULE:FREQ=YEARLY;BYDAY=-1SU;BYMONTH=10
TZNAME:CET
TZOFFSETFROM:+0200
TZOFFSETTO:+0100
END:STANDARD
BEGIN:DAYLIGHT
DTSTART:20000326T030000
RRULE:FREQ=YEARLY;BYDAY=-1SU;BYMONTH=3
TZNAME:CEST
TZOFFSETFROM:+0100
TZOFFSETTO:+0200
END:DAYLIGHT
END:VTIMEZONE
BEGIN:VEVENT
UID:pretix-vestri-npkez-4931833@pretix.eu
DTSTART;TZID=Europe/Rome:20260428T173000
DTEND;TZID=Europe/Rome:20260428T193900
DESCRIPTION:Tickets: https://pretix.eu/vestri/npkez/4931833/\nOrganizer: ve
 stri company
DTSTAMP:20260425T181748Z
SUMMARY:La cronologia dell’acqua
END:VEVENT
END:VCALENDAR
