BEGIN:VCALENDAR
VERSION:2.0
PRODID:-//pretix//pretix.eu//
BEGIN:VTIMEZONE
TZID:Europe/Berlin
BEGIN:STANDARD
DTSTART:20001029T040000
RRULE:FREQ=YEARLY;BYDAY=-1SU;BYMONTH=10
TZNAME:CET
TZOFFSETFROM:+0200
TZOFFSETTO:+0100
END:STANDARD
BEGIN:DAYLIGHT
DTSTART:20000326T030000
RRULE:FREQ=YEARLY;BYDAY=-1SU;BYMONTH=3
TZNAME:CEST
TZOFFSETFROM:+0100
TZOFFSETTO:+0200
END:DAYLIGHT
END:VTIMEZONE
BEGIN:VEVENT
UID:pretix-vision-video-MY-1125-0@pretix.eu
DTSTART;TZID=Europe/Berlin:20260516T193000
DTEND;TZID=Europe/Berlin:20260516T203000
DESCRIPTION:Tickets: https://pretix.eu/vision-video/MY-1125/\nEinlass: 16.0
 5.2026 18:30\nVeranstalter: visi[o]n Video
DTSTAMP:20260419T130317Z
LOCATION:In der Alten Kelter\, Kirchplatz 13\, 74321 Bietigheim
SUMMARY:Metal-Yoga 0526
END:VEVENT
END:VCALENDAR
