BEGIN:VCALENDAR
VERSION:2.0
PRODID:-//pretix//pretix.eu//
BEGIN:VTIMEZONE
TZID:Europe/Brussels
BEGIN:STANDARD
DTSTART:20001029T040000
RRULE:FREQ=YEARLY;BYDAY=-1SU;BYMONTH=10
TZNAME:CET
TZOFFSETFROM:+0200
TZOFFSETTO:+0100
END:STANDARD
BEGIN:DAYLIGHT
DTSTART:20000326T030000
RRULE:FREQ=YEARLY;BYDAY=-1SU;BYMONTH=3
TZNAME:CEST
TZOFFSETFROM:+0100
TZOFFSETTO:+0200
END:DAYLIGHT
END:VTIMEZONE
BEGIN:VEVENT
UID:pretix-visug-10052023-0@pretix.eu
DTSTART;TZID=Europe/Brussels:20230510T180000
DTEND;TZID=Europe/Brussels:20230510T210000
DESCRIPTION:Tickets: https://pretix.eu/visug/10052023/\nAdmission: 2023-05-
 10 18:00\nOrganizer: Visug
DTSTAMP:20260420T032253Z
LOCATION:Team4Talent\, Houtdok-Noordkaai 12\, 2030 Antwerpen
SUMMARY:"War stories from .NET team" by Karel Zikmund & "Pedal to the Metal
 : Update Performance Improvements in Entity Framework Core 7.0" by Shay Ro
 jansky
END:VEVENT
END:VCALENDAR
