BEGIN:VCALENDAR
VERSION:2.0
PRODID:-//pretix//pretix.eu//
BEGIN:VTIMEZONE
TZID:Europe/Brussels
BEGIN:STANDARD
DTSTART:20001029T040000
RRULE:FREQ=YEARLY;BYDAY=-1SU;BYMONTH=10
TZNAME:CET
TZOFFSETFROM:+0200
TZOFFSETTO:+0100
END:STANDARD
BEGIN:DAYLIGHT
DTSTART:20000326T030000
RRULE:FREQ=YEARLY;BYDAY=-1SU;BYMONTH=3
TZNAME:CEST
TZOFFSETFROM:+0100
TZOFFSETTO:+0200
END:DAYLIGHT
END:VTIMEZONE
BEGIN:VEVENT
UID:pretix-visug-20250424-0@pretix.eu
DTSTART;TZID=Europe/Brussels:20250424T180000
DTEND;TZID=Europe/Brussels:20250424T210000
DESCRIPTION:Tickets: https://pretix.eu/visug/20250424/\nAdmission: 2025-04-
 24 18:00\nOrganizer: Visug
DTSTAMP:20260420T210528Z
LOCATION:AE\, Interleuvenlaan 27b\, 3001 Heverlee
SUMMARY:Visug - April 24 2025 at AE Leuven
END:VEVENT
END:VCALENDAR
