BEGIN:VCALENDAR
VERSION:2.0
PRODID:-//pretix//pretix.eu//
BEGIN:VTIMEZONE
TZID:Europe/Brussels
BEGIN:STANDARD
DTSTART:20001029T040000
RRULE:FREQ=YEARLY;BYDAY=-1SU;BYMONTH=10
TZNAME:CET
TZOFFSETFROM:+0200
TZOFFSETTO:+0100
END:STANDARD
BEGIN:DAYLIGHT
DTSTART:20000326T030000
RRULE:FREQ=YEARLY;BYDAY=-1SU;BYMONTH=3
TZNAME:CEST
TZOFFSETFROM:+0100
TZOFFSETTO:+0200
END:DAYLIGHT
END:VTIMEZONE
BEGIN:VEVENT
UID:pretix-visug-20260428-0@pretix.eu
DTSTART;TZID=Europe/Brussels:20260428T180000
DTEND;TZID=Europe/Brussels:20260428T210000
DESCRIPTION:Tickets: https://pretix.eu/visug/20260428/\nAdmission: 2026-04-
 28 18:00\nOrganizer: Visug
DTSTAMP:20260424T195629Z
LOCATION:Talent-IT\, Houtdok-Noordkaai 12\, 2030 Antwerpen
SUMMARY:We Rolled Out GitHub Copilot… How Do We Prove It Helps? and AI Se
 curity: The S in MCP stands for Security
END:VEVENT
END:VCALENDAR
