BEGIN:VCALENDAR
VERSION:2.0
PRODID:-//pretix//pretix.eu//
BEGIN:VTIMEZONE
TZID:Europe/Berlin
BEGIN:STANDARD
DTSTART:20001029T040000
RRULE:FREQ=YEARLY;BYDAY=-1SU;BYMONTH=10
TZNAME:CET
TZOFFSETFROM:+0200
TZOFFSETTO:+0100
END:STANDARD
BEGIN:DAYLIGHT
DTSTART:20000326T030000
RRULE:FREQ=YEARLY;BYDAY=-1SU;BYMONTH=3
TZNAME:CEST
TZOFFSETFROM:+0100
TZOFFSETTO:+0200
END:DAYLIGHT
END:VTIMEZONE
BEGIN:VEVENT
UID:pretix-vocanta-hmoll-2025-0@pretix.eu
DTSTART;TZID=Europe/Berlin:20250927T190000
DTEND;TZID=Europe/Berlin:20250927T200000
DESCRIPTION:Tickets: https://pretix.eu/vocanta/hmoll-2025/\nVeranstalter: V
 OCANTA Chor Erlangen
DTSTAMP:20260420T085957Z
LOCATION:Matthäuskirche\, Rathenaustraße 1\, 91052 Erlangen
SUMMARY:J.S.Bach: h-moll Messe
END:VEVENT
END:VCALENDAR
