BEGIN:VCALENDAR
VERSION:2.0
PRODID:-//pretix//pretix.eu//
BEGIN:VTIMEZONE
TZID:Europe/Berlin
BEGIN:STANDARD
DTSTART:20001029T040000
RRULE:FREQ=YEARLY;BYDAY=-1SU;BYMONTH=10
TZNAME:CET
TZOFFSETFROM:+0200
TZOFFSETTO:+0100
END:STANDARD
BEGIN:DAYLIGHT
DTSTART:20000326T030000
RRULE:FREQ=YEARLY;BYDAY=-1SU;BYMONTH=3
TZNAME:CEST
TZOFFSETFROM:+0100
TZOFFSETTO:+0200
END:DAYLIGHT
END:VTIMEZONE
BEGIN:VEVENT
UID:pretix-volkssternwarte-favo-224-0@pretix.eu
DTSTART;TZID=Europe/Berlin:20241023T180000
DTEND;TZID=Europe/Berlin:20241023T190000
DESCRIPTION:Tickets: https://pretix.eu/volkssternwarte/favo-224/\nEinlass: 
 23.10.2024 17:30\nVeranstalter: Volkssternwarte München
DTSTAMP:20260422T014623Z
LOCATION:Volkssternwarte München\, Rosenheimer Str. 145h\, 81671 München
SUMMARY:Familien-Vortrag: Vom Feuerstuhl zur Marsrakete
END:VEVENT
END:VCALENDAR
