BEGIN:VCALENDAR
VERSION:2.0
PRODID:-//pretix//pretix.eu//
BEGIN:VTIMEZONE
TZID:Europe/Berlin
BEGIN:STANDARD
DTSTART:20001029T040000
RRULE:FREQ=YEARLY;BYDAY=-1SU;BYMONTH=10
TZNAME:CET
TZOFFSETFROM:+0200
TZOFFSETTO:+0100
END:STANDARD
BEGIN:DAYLIGHT
DTSTART:20000326T030000
RRULE:FREQ=YEARLY;BYDAY=-1SU;BYMONTH=3
TZNAME:CEST
TZOFFSETFROM:+0100
TZOFFSETTO:+0200
END:DAYLIGHT
END:VTIMEZONE
BEGIN:VEVENT
UID:pretix-volkssternwarte-neas-220624-0@pretix.eu
DTSTART;TZID=Europe/Berlin:20220624T200000
DTEND;TZID=Europe/Berlin:20220624T210000
DESCRIPTION:Tickets: https://pretix.eu/volkssternwarte/neas-220624/\nEinlas
 s: 24.06.2022 19:45\nVeranstalter: Volkssternwarte München
DTSTAMP:20260420T121811Z
LOCATION:Volkssternwarte München\, Rosenheimer Str. 145h\, 81671 München
SUMMARY:Das erstaunliche Leben eines erdnahen Asteroiden
END:VEVENT
END:VCALENDAR
