BEGIN:VCALENDAR
VERSION:2.0
PRODID:-//pretix//pretix.eu//
BEGIN:VTIMEZONE
TZID:Europe/Berlin
BEGIN:STANDARD
DTSTART:20001029T040000
RRULE:FREQ=YEARLY;BYDAY=-1SU;BYMONTH=10
TZNAME:CET
TZOFFSETFROM:+0200
TZOFFSETTO:+0100
END:STANDARD
BEGIN:DAYLIGHT
DTSTART:20000326T030000
RRULE:FREQ=YEARLY;BYDAY=-1SU;BYMONTH=3
TZNAME:CEST
TZOFFSETFROM:+0100
TZOFFSETTO:+0200
END:DAYLIGHT
END:VTIMEZONE
BEGIN:VEVENT
UID:pretix-volkssternwarte-twin220617-0@pretix.eu
DTSTART;TZID=Europe/Berlin:20220617T200000
DTEND;TZID=Europe/Berlin:20220617T210000
DESCRIPTION:Tickets: https://pretix.eu/volkssternwarte/twin220617/\nEinlass
 : 17.06.2022 19:45\nVeranstalter: Volkssternwarte München
DTSTAMP:20260419T210847Z
LOCATION:Volkssternwarte München\, Rosenheimer Str. 145h\, 81671 München
SUMMARY:Das Zwillingsparadoxon und seine Auflösung
END:VEVENT
END:VCALENDAR
