BEGIN:VCALENDAR
VERSION:2.0
PRODID:-//pretix//pretix.eu//
BEGIN:VTIMEZONE
TZID:Europe/Berlin
BEGIN:STANDARD
DTSTART:20001029T040000
RRULE:FREQ=YEARLY;BYDAY=-1SU;BYMONTH=10
TZNAME:CET
TZOFFSETFROM:+0200
TZOFFSETTO:+0100
END:STANDARD
BEGIN:DAYLIGHT
DTSTART:20000326T030000
RRULE:FREQ=YEARLY;BYDAY=-1SU;BYMONTH=3
TZNAME:CEST
TZOFFSETFROM:+0100
TZOFFSETTO:+0200
END:DAYLIGHT
END:VTIMEZONE
BEGIN:VEVENT
UID:pretix-volkssternwartekoeln.de-2024-05-17-0@pretix.eu
DTSTART;TZID=Europe/Berlin:20240517T210000
DTEND;TZID=Europe/Berlin:20240517T220000
DESCRIPTION:Tickets: https://pretix.eu/volkssternwartekoeln.de/2024-05-17/\
 nVeranstalter: Volkssternwarte Köln
DTSTAMP:20260422T182550Z
LOCATION:Volkssternwarte Köln\, Nikolausstraße 55\, 50937 Köln
SUMMARY:Vortrag: Sternenparks in Deutschland - Dunkle Orte für die Himmels
 beobachtung
END:VEVENT
END:VCALENDAR
