BEGIN:VCALENDAR
VERSION:2.0
PRODID:-//pretix//pretix.eu//
BEGIN:VTIMEZONE
TZID:Europe/Berlin
BEGIN:STANDARD
DTSTART:20001029T040000
RRULE:FREQ=YEARLY;BYDAY=-1SU;BYMONTH=10
TZNAME:CET
TZOFFSETFROM:+0200
TZOFFSETTO:+0100
END:STANDARD
BEGIN:DAYLIGHT
DTSTART:20000326T030000
RRULE:FREQ=YEARLY;BYDAY=-1SU;BYMONTH=3
TZNAME:CEST
TZOFFSETFROM:+0100
TZOFFSETTO:+0200
END:DAYLIGHT
END:VTIMEZONE
BEGIN:VEVENT
UID:pretix-volt-digicom-cocreation-0@pretix.eu
DTSTART;TZID=Europe/Berlin:20241122T130000
DTEND;TZID=Europe/Berlin:20241122T173000
DESCRIPTION:Tickets: https://pretix.eu/volt-digicom/cocreation/\nAdmission:
  2024-11-22 12:30\nOrganizer: DigiCom
DTSTAMP:20260424T003229Z
LOCATION:Destil Creative Hub Tirana
SUMMARY:Evote Innovation Hub - Volt Europa GA Pre-Event
END:VEVENT
END:VCALENDAR
