BEGIN:VCALENDAR
VERSION:2.0
PRODID:-//pretix//pretix.eu//
BEGIN:VTIMEZONE
TZID:Europe/Berlin
BEGIN:STANDARD
DTSTART:20001029T040000
RRULE:FREQ=YEARLY;BYDAY=-1SU;BYMONTH=10
TZNAME:CET
TZOFFSETFROM:+0200
TZOFFSETTO:+0100
END:STANDARD
BEGIN:DAYLIGHT
DTSTART:20000326T030000
RRULE:FREQ=YEARLY;BYDAY=-1SU;BYMONTH=3
TZNAME:CEST
TZOFFSETFROM:+0100
TZOFFSETTO:+0200
END:DAYLIGHT
END:VTIMEZONE
BEGIN:VEVENT
UID:pretix-volt-digicom-thomcom-may31-0@pretix.eu
DTSTART;TZID=Europe/Berlin:20250531T150000
DTEND;TZID=Europe/Berlin:20250531T170000
DESCRIPTION:Tickets : https://pretix.eu/volt-digicom/thomcom-may31/\nAdmis
 sion : 31/05/2025 14:30\nOrganisateur : DigiCom
DTSTAMP:20260423T153213Z
LOCATION:Auberge de jeunesse HI Lille Maison Stéphane Hessel\, 235 Bd Paul
  Painlevé\,\, 59000 Lille
SUMMARY:Le futur du logement et de la mobilité
END:VEVENT
END:VCALENDAR
