BEGIN:VCALENDAR
VERSION:2.0
PRODID:-//pretix//pretix.eu//
BEGIN:VTIMEZONE
TZID:Europe/Berlin
BEGIN:STANDARD
DTSTART:20001029T040000
RRULE:FREQ=YEARLY;BYDAY=-1SU;BYMONTH=10
TZNAME:CET
TZOFFSETFROM:+0200
TZOFFSETTO:+0100
END:STANDARD
BEGIN:DAYLIGHT
DTSTART:20000326T030000
RRULE:FREQ=YEARLY;BYDAY=-1SU;BYMONTH=3
TZNAME:CEST
TZOFFSETFROM:+0100
TZOFFSETTO:+0200
END:DAYLIGHT
END:VTIMEZONE
BEGIN:VEVENT
UID:pretix-volt-digicom-wecom-sep27-0@pretix.eu
DTSTART;TZID=Europe/Berlin:20250927T150000
DTEND;TZID=Europe/Berlin:20250927T170000
DESCRIPTION:Tickets: https://pretix.eu/volt-digicom/wecom-sep27/\nAdmission
 : 2025-09-27 14:30\nOrganizer: DigiCom
DTSTAMP:20260423T160609Z
LOCATION:Mundo Matongé (Mundo-b)\, Rue d'Edimbourg 26\,\, 1050 Ixelles\,\,
  Belgium
SUMMARY:Cooperation for improvement: Workers' rights and development in coo
 peratives
END:VEVENT
END:VCALENDAR
