BEGIN:VCALENDAR
VERSION:2.0
PRODID:-//pretix//pretix.eu//
BEGIN:VTIMEZONE
TZID:Europe/Berlin
BEGIN:STANDARD
DTSTART:20001029T040000
RRULE:FREQ=YEARLY;BYDAY=-1SU;BYMONTH=10
TZNAME:CET
TZOFFSETFROM:+0200
TZOFFSETTO:+0100
END:STANDARD
BEGIN:DAYLIGHT
DTSTART:20000326T030000
RRULE:FREQ=YEARLY;BYDAY=-1SU;BYMONTH=3
TZNAME:CEST
TZOFFSETFROM:+0100
TZOFFSETTO:+0200
END:DAYLIGHT
END:VTIMEZONE
BEGIN:VEVENT
UID:pretix-w.i.production-geruechte-4911370@pretix.eu
DTSTART;TZID=Europe/Berlin:20260516T190000
DTEND;TZID=Europe/Berlin:20260516T220000
DESCRIPTION:Tickets: https://pretix.eu/w.i.production/geruechte/4911370/\nA
 dmission: 2026-05-16 18:00\nOrganizer: Wery Important Production
DTSTAMP:20260421T172308Z
LOCATION:Kiezkapelle\, Neuer Friedhof St. Jacobi\, Hermannstraße 99–105\
 , 12051 Berlin
SUMMARY:Gerüchte … Gerüchte
END:VEVENT
BEGIN:VEVENT
UID:pretix-w.i.production-geruechte-4911371@pretix.eu
DTSTART;TZID=Europe/Berlin:20260517T190000
DTEND;TZID=Europe/Berlin:20260517T220000
DESCRIPTION:Tickets: https://pretix.eu/w.i.production/geruechte/4911371/\nA
 dmission: 2026-05-17 18:00\nOrganizer: Wery Important Production
DTSTAMP:20260421T172308Z
LOCATION:Kiezkapelle\, Neuer Friedhof St. Jacobi\, Hermannstraße 99–105\
 , 12051 Berlin
SUMMARY:Gerüchte … Gerüchte
END:VEVENT
BEGIN:VEVENT
UID:pretix-w.i.production-geruechte-4911372@pretix.eu
DTSTART;TZID=Europe/Berlin:20260529T190000
DTEND;TZID=Europe/Berlin:20260529T220000
DESCRIPTION:Tickets: https://pretix.eu/w.i.production/geruechte/4911372/\nA
 dmission: 2026-05-29 18:00\nOrganizer: Wery Important Production
DTSTAMP:20260421T172308Z
LOCATION:Kiezkapelle\, Neuer Friedhof St. Jacobi\, Hermannstraße 99–105\
 , 12051 Berlin
SUMMARY:Gerüchte … Gerüchte
END:VEVENT
BEGIN:VEVENT
UID:pretix-w.i.production-geruechte-4911373@pretix.eu
DTSTART;TZID=Europe/Berlin:20260530T190000
DTEND;TZID=Europe/Berlin:20260530T220000
DESCRIPTION:Tickets: https://pretix.eu/w.i.production/geruechte/4911373/\nA
 dmission: 2026-05-30 18:00\nOrganizer: Wery Important Production
DTSTAMP:20260421T172308Z
LOCATION:Kiezkapelle\, Neuer Friedhof St. Jacobi\, Hermannstraße 99–105\
 , 12051 Berlin
SUMMARY:Gerüchte … Gerüchte
END:VEVENT
END:VCALENDAR
