BEGIN:VCALENDAR
VERSION:2.0
PRODID:-//pretix//pretix.eu//
BEGIN:VEVENT
UID:pretix-weimar-haus-eintritt-236366@pretix.eu
DTSTART;VALUE=DATE:20201031
DTEND;VALUE=DATE:20201101
DESCRIPTION:Tickets: https://pretix.eu/weimar-haus/eintritt/236366/\nVerans
 talter: Weimar-Haus "Neue Geschichtserlebnis GmbH"
DTSTAMP:20260423T110544Z
LOCATION:Schillerstrasse 16\, 99423 Weimar
SUMMARY:Happy Hour Family
END:VEVENT
END:VCALENDAR
