BEGIN:VCALENDAR
VERSION:2.0
PRODID:-//pretix//pretix.eu//
BEGIN:VEVENT
UID:pretix-weimar-haus-eintritt-2392747@pretix.eu
DTSTART;VALUE=DATE:20210706
DTEND;VALUE=DATE:20210707
DESCRIPTION:Tickets: https://pretix.eu/weimar-haus/eintritt/2392747/\nVeran
 stalter: Weimar-Haus "Neue Geschichtserlebnis GmbH"
DTSTAMP:20260420T022003Z
LOCATION:Schillerstrasse 16\, 99423 Weimar
SUMMARY:Eintritt Weimar Haus
END:VEVENT
END:VCALENDAR
