BEGIN:VCALENDAR
VERSION:2.0
PRODID:-//pretix//pretix.eu//
BEGIN:VEVENT
UID:pretix-weimar-haus-eintritt-2393038@pretix.eu
DTSTART;VALUE=DATE:20210628
DTEND;VALUE=DATE:20210629
DESCRIPTION:Tickets: https://pretix.eu/weimar-haus/eintritt/2393038/\nVeran
 stalter: Weimar-Haus "Neue Geschichtserlebnis GmbH"
DTSTAMP:20260421T021535Z
LOCATION:Schillerstrasse 16\, 99423 Weimar
SUMMARY:Happy Hour Family
END:VEVENT
END:VCALENDAR
