BEGIN:VCALENDAR
VERSION:2.0
PRODID:-//pretix//pretix.eu//
BEGIN:VEVENT
UID:pretix-weimar-haus-eintritt-3105104@pretix.eu
DTSTART;VALUE=DATE:20220328
DTEND;VALUE=DATE:20220329
DESCRIPTION:Tickets: https://pretix.eu/weimar-haus/eintritt/3105104/\nVeran
 stalter: Weimar-Haus "Neue Geschichtserlebnis GmbH"
DTSTAMP:20260421T210012Z
LOCATION:Schillerstrasse 16\, 99423 Weimar
SUMMARY:Zeitfensterticket zwischen 11:00 und 13:00
END:VEVENT
END:VCALENDAR
