BEGIN:VCALENDAR
VERSION:2.0
PRODID:-//pretix//pretix.eu//
BEGIN:VEVENT
UID:pretix-weimar-haus-eintritt-3105138@pretix.eu
DTSTART;VALUE=DATE:20220317
DTEND;VALUE=DATE:20220318
DESCRIPTION:Tickets: https://pretix.eu/weimar-haus/eintritt/3105138/\nVeran
 stalter: Weimar-Haus "Neue Geschichtserlebnis GmbH"
DTSTAMP:20260423T211353Z
LOCATION:Schillerstrasse 16\, 99423 Weimar
SUMMARY:Zeitfensterticket zwischen 13:00 und 15:00
END:VEVENT
END:VCALENDAR
