BEGIN:VCALENDAR
VERSION:2.0
PRODID:-//pretix//pretix.eu//
BEGIN:VEVENT
UID:pretix-weimar-haus-eintritt-3254274@pretix.eu
DTSTART;VALUE=DATE:20220525
DTEND;VALUE=DATE:20220526
DESCRIPTION:Tickets: https://pretix.eu/weimar-haus/eintritt/3254274/\nVeran
 stalter: Weimar-Haus "Neue Geschichtserlebnis GmbH"
DTSTAMP:20260419T185500Z
LOCATION:Schillerstrasse 16\, 99423 Weimar
SUMMARY:Zeitfensterticket (Einlass zwischen 12:00 und 13:00)
END:VEVENT
END:VCALENDAR
