BEGIN:VCALENDAR
VERSION:2.0
PRODID:-//pretix//pretix.eu//
BEGIN:VEVENT
UID:pretix-weimar-haus-eintritt-3646685@pretix.eu
DTSTART;VALUE=DATE:20221013
DTEND;VALUE=DATE:20221014
DESCRIPTION:Tickets: https://pretix.eu/weimar-haus/eintritt/3646685/\nVeran
 stalter: Weimar-Haus "Neue Geschichtserlebnis GmbH"
DTSTAMP:20260425T202712Z
LOCATION:Schillerstrasse 16\, 99423 Weimar
SUMMARY:Tagesticket (Einlass zwischen 10:00 und 13:00)
END:VEVENT
END:VCALENDAR
