BEGIN:VCALENDAR
VERSION:2.0
PRODID:-//pretix//pretix.eu//
BEGIN:VEVENT
UID:pretix-weimar-haus-eintritt-3821522@pretix.eu
DTSTART;VALUE=DATE:20230126
DTEND;VALUE=DATE:20230127
DESCRIPTION:Tickets: https://pretix.eu/weimar-haus/eintritt/3821522/\nVeran
 stalter: Weimar-Haus "Neue Geschichtserlebnis GmbH"
DTSTAMP:20260420T190100Z
LOCATION:Schillerstrasse 16\, 99423 Weimar
SUMMARY:Tagesticket (Einlass zwischen 14:30 und 15:30)
END:VEVENT
END:VCALENDAR
