BEGIN:VCALENDAR
VERSION:2.0
PRODID:-//pretix//pretix.eu//
BEGIN:VEVENT
UID:pretix-weimar-haus-eintritt-3875856@pretix.eu
DTSTART;VALUE=DATE:20230728
DTEND;VALUE=DATE:20230729
DESCRIPTION:Tickets: https://pretix.eu/weimar-haus/eintritt/3875856/\nVeran
 stalter: Weimar-Haus "Neue Geschichtserlebnis GmbH"
DTSTAMP:20260423T090202Z
LOCATION:Schillerstrasse 16\, 99423 Weimar
SUMMARY:Tagesticket (Einlass zwischen 10:30 und 16:30)
END:VEVENT
END:VCALENDAR
