BEGIN:VCALENDAR
VERSION:2.0
PRODID:-//pretix//pretix.eu//
BEGIN:VEVENT
UID:pretix-weimar-haus-eintritt-3954575@pretix.eu
DTSTART;VALUE=DATE:20231006
DTEND;VALUE=DATE:20231007
DESCRIPTION:Tickets: https://pretix.eu/weimar-haus/eintritt/3954575/\nVeran
 stalter: Weimar-Haus "Neue Geschichtserlebnis GmbH"
DTSTAMP:20260423T050033Z
LOCATION:Schillerstrasse 16\, 99423 Weimar
SUMMARY:Tagesticket (Einlass zwischen 10:30 und 17:00)
END:VEVENT
END:VCALENDAR
