BEGIN:VCALENDAR
VERSION:2.0
PRODID:-//pretix//pretix.eu//
BEGIN:VEVENT
UID:pretix-weimar-haus-eintritt-4047387@pretix.eu
DTSTART;VALUE=DATE:20240215
DTEND;VALUE=DATE:20240216
DESCRIPTION:Tickets: https://pretix.eu/weimar-haus/eintritt/4047387/\nVeran
 stalter: Weimar-Haus "Neue Geschichtserlebnis GmbH"
DTSTAMP:20260423T010455Z
LOCATION:Schillerstrasse 16\, 99423 Weimar
SUMMARY:Tagesticket (Einlass zwischen 10:30 und 16:00)
END:VEVENT
END:VCALENDAR
