BEGIN:VCALENDAR
VERSION:2.0
PRODID:-//pretix//pretix.eu//
BEGIN:VEVENT
UID:pretix-weimar-haus-eintritt-4047399@pretix.eu
DTSTART;VALUE=DATE:20240304
DTEND;VALUE=DATE:20240305
DESCRIPTION:Tickets: https://pretix.eu/weimar-haus/eintritt/4047399/\nVeran
 stalter: Weimar-Haus "Neue Geschichtserlebnis GmbH"
DTSTAMP:20260420T023445Z
LOCATION:Schillerstrasse 16\, 99423 Weimar
SUMMARY:Tagesticket (Einlass zwischen 10:30 und 16:00)
END:VEVENT
END:VCALENDAR
