BEGIN:VCALENDAR
VERSION:2.0
PRODID:-//pretix//pretix.eu//
BEGIN:VEVENT
UID:pretix-weimar-haus-eintritt-4047428@pretix.eu
DTSTART;VALUE=DATE:20240316
DTEND;VALUE=DATE:20240317
DESCRIPTION:Tickets: https://pretix.eu/weimar-haus/eintritt/4047428/\nVeran
 stalter: Weimar-Haus "Neue Geschichtserlebnis GmbH"
DTSTAMP:20260420T094348Z
LOCATION:Schillerstrasse 16\, 99423 Weimar
SUMMARY:Tagesticket (Einlass zwischen 10:30 und 17:00)
END:VEVENT
END:VCALENDAR
