BEGIN:VCALENDAR
VERSION:2.0
PRODID:-//pretix//pretix.eu//
BEGIN:VEVENT
UID:pretix-weimar-haus-eintritt-4125781@pretix.eu
DTSTART;VALUE=DATE:20240915
DTEND;VALUE=DATE:20240916
DESCRIPTION:Tickets: https://pretix.eu/weimar-haus/eintritt/4125781/\nVeran
 stalter: Weimar-Haus "Neue Geschichtserlebnis GmbH"
DTSTAMP:20260422T060424Z
LOCATION:Schillerstrasse 16\, 99423 Weimar
SUMMARY:Tagesticket (Einlass zwischen 11:00 und 15:30)
END:VEVENT
END:VCALENDAR
