BEGIN:VCALENDAR
VERSION:2.0
PRODID:-//pretix//pretix.eu//
BEGIN:VEVENT
UID:pretix-weimar-haus-eintritt-4504798@pretix.eu
DTSTART;VALUE=DATE:20250629
DTEND;VALUE=DATE:20250630
DESCRIPTION:Tickets: https://pretix.eu/weimar-haus/eintritt/4504798/\nVeran
 stalter: Weimar-Haus "Neue Geschichtserlebnis GmbH"
DTSTAMP:20260421T021454Z
LOCATION:Schillerstrasse 16\, 99423 Weimar
SUMMARY:Tagesticket (Einlass zwischen 11:00 und 15:30)
END:VEVENT
END:VCALENDAR
