BEGIN:VCALENDAR
VERSION:2.0
PRODID:-//pretix//pretix.eu//
BEGIN:VEVENT
UID:pretix-weimar-haus-eintritt-4809671@pretix.eu
DTSTART;VALUE=DATE:20251228
DTEND;VALUE=DATE:20251229
DESCRIPTION:Tickets: https://pretix.eu/weimar-haus/eintritt/4809671/\nVeran
 stalter: Weimar-Haus "Neue Geschichtserlebnis GmbH"
DTSTAMP:20260421T171338Z
LOCATION:Schillerstrasse 16\, 99423 Weimar
SUMMARY:Tagesticket (Einlass zwischen 11:00 und 15:30)
END:VEVENT
END:VCALENDAR
