BEGIN:VCALENDAR
VERSION:2.0
PRODID:-//pretix//pretix.eu//
BEGIN:VEVENT
UID:pretix-weimar-haus-eintritt-4835478@pretix.eu
DTSTART;VALUE=DATE:20260413
DTEND;VALUE=DATE:20260414
DESCRIPTION:Tickets: https://pretix.eu/weimar-haus/eintritt/4835478/\nVeran
 stalter: Weimar-Haus "Neue Geschichtserlebnis GmbH"
DTSTAMP:20260419T190925Z
LOCATION:Schillerstrasse 16\, 99423 Weimar
SUMMARY:Tagesticket (Einlass zwischen 10:00 und 16:15)
END:VEVENT
END:VCALENDAR
