BEGIN:VCALENDAR
VERSION:2.0
PRODID:-//pretix//pretix.eu//
BEGIN:VEVENT
UID:pretix-weiselrichtig-20220928-BV-0@pretix.eu
DTSTART;VALUE=DATE:20220929
DTEND;VALUE=DATE:20220930
DESCRIPTION:Tickets: https://pretix.eu/weiselrichtig/20220928-BV/\nEinlass:
  29.09.2022 00:00\nVeranstalter: WEISELRICHTIG Imkerschule - Adelheid Mari
 a Klein
DTSTAMP:20260422T162336Z
LOCATION:Online
SUMMARY:Online Bienengesundheit mit Dr. Andreas Schierling - Biologie der V
 arroamilbe Do 29.9. - 19:30 Uhr
END:VEVENT
END:VCALENDAR
