BEGIN:VCALENDAR
VERSION:2.0
PRODID:-//pretix//pretix.eu//
BEGIN:VEVENT
UID:pretix-weiselrichtig-Geld-Steuern1-0@pretix.eu
DTSTART;VALUE=DATE:20201115
DTEND;VALUE=DATE:20201116
DESCRIPTION:Tickets: https://pretix.eu/weiselrichtig/Geld-Steuern1/\nVerans
 talter: WEISELRICHTIG Imkerschule - Adelheid Maria Klein
DTSTAMP:20260419T224651Z
LOCATION:Landkreis Landsberg
SUMMARY:Geld und Steuern in der Imkerei
END:VEVENT
END:VCALENDAR
