BEGIN:VCALENDAR
VERSION:2.0
PRODID:-//pretix//pretix.eu//
BEGIN:VEVENT
UID:pretix-weiselrichtig-GesundhAS224-0@pretix.eu
DTSTART;VALUE=DATE:20220426
DTEND;VALUE=DATE:20220427
DESCRIPTION:Tickets: https://pretix.eu/weiselrichtig/GesundhAS224/\nEinlass
 : 26.04.2022 19:15\nVeranstalter: WEISELRICHTIG Imkerschule - Adelheid Mar
 ia Klein
DTSTAMP:20260424T192128Z
LOCATION:online
SUMMARY:Neue und anzeigepflichtige Krankheiten/Schädlinge - **nur ONLINE**
  mit Dr. Andreas Schierling am 26.04.2022 Einlass 19:15 Uhr
END:VEVENT
END:VCALENDAR
