BEGIN:VCALENDAR
VERSION:2.0
PRODID:-//pretix//pretix.eu//
BEGIN:VEVENT
UID:pretix-weiselrichtig-Hygiene1-0@pretix.eu
DTSTART;VALUE=DATE:20210116
DTEND;VALUE=DATE:20210117
DESCRIPTION:Tickets: https://pretix.eu/weiselrichtig/Hygiene1/\nVeranstalte
 r: WEISELRICHTIG Imkerschule - Adelheid Maria Klein
DTSTAMP:20260419T224708Z
LOCATION:Landkreis Landsberg/Lech oder Fürstenfeldbruck
SUMMARY:Hygiene in der Imkerei - jetzt auch online
END:VEVENT
END:VCALENDAR
