BEGIN:VCALENDAR
VERSION:2.0
PRODID:-//pretix//pretix.eu//
BEGIN:VEVENT
UID:pretix-weiselrichtig-Hygiene3-online-0@pretix.eu
DTSTART;VALUE=DATE:20220505
DTEND;VALUE=DATE:20220506
DESCRIPTION:Tickets: https://pretix.eu/weiselrichtig/Hygiene3-online/\nVera
 nstalter: WEISELRICHTIG Imkerschule - Adelheid Maria Klein
DTSTAMP:20260424T192122Z
LOCATION:online
SUMMARY:Hygiene in der Imkerei - **nur ONLINE** - mit Online-Stammtisch am 
 5.5. (oder 1.6.) und 9.11.22
END:VEVENT
END:VCALENDAR
