BEGIN:VCALENDAR
VERSION:2.0
PRODID:-//pretix//pretix.eu//
BEGIN:VEVENT
UID:pretix-weiselrichtig-VRI-20200328-0@pretix.eu
DTSTART;VALUE=DATE:20210328
DTEND;VALUE=DATE:20210329
DESCRIPTION:Tickets: https://pretix.eu/weiselrichtig/VRI-20200328/\nVeranst
 alter: WEISELRICHTIG Imkerschule - Adelheid Maria Klein
DTSTAMP:20260419T224657Z
LOCATION:Esting
SUMMARY:VRI-Praxis - Auswintern 20.3. oder 27.3. - Varroareduziert Imkern -
  Olching
END:VEVENT
END:VCALENDAR
