BEGIN:VCALENDAR
VERSION:2.0
PRODID:-//pretix//pretix.eu//
BEGIN:VEVENT
UID:pretix-weiselrichtig-VRI-Koenig22-1-0@pretix.eu
DTSTART;VALUE=DATE:20220522
DTEND;VALUE=DATE:20220523
DESCRIPTION:Tickets: https://pretix.eu/weiselrichtig/VRI-Koenig22-1/\nVeran
 stalter: WEISELRICHTIG Imkerschule - Adelheid Maria Klein
DTSTAMP:20260424T154958Z
LOCATION:86932 Stoffen\, Frauenwies 1
SUMMARY:VRI-Königinnen-Vermehrung Praxistag - 22.05.2022
END:VEVENT
END:VCALENDAR
