BEGIN:VCALENDAR
VERSION:2.0
PRODID:-//pretix//pretix.eu//
BEGIN:VEVENT
UID:pretix-weiselrichtig-VRI9ccwh-0@pretix.eu
DTSTART;VALUE=DATE:20210205
DTEND;VALUE=DATE:20210206
DESCRIPTION:Tickets: https://pretix.eu/weiselrichtig/VRI9ccwh/\nVeranstalte
 r: WEISELRICHTIG Imkerschule - Adelheid Maria Klein
DTSTAMP:20260419T224706Z
LOCATION:Stoffen
SUMMARY:VRI-Praxis - Winterkontrolle Jan/Feb - Varroareduziert Imkern - Lan
 dkreis Landsberg/Lech\, voraussichtlich nur Online möglich
END:VEVENT
END:VCALENDAR
