BEGIN:VCALENDAR
VERSION:2.0
PRODID:-//pretix//pretix.eu//
BEGIN:VEVENT
UID:pretix-weiselrichtig-VRIhgsv8-0@pretix.eu
DTSTART;VALUE=DATE:20200919
DTEND;VALUE=DATE:20200920
DESCRIPTION:Tickets: https://pretix.eu/weiselrichtig/VRIhgsv8/\nVeranstalte
 r: WEISELRICHTIG Imkerschule - Adelheid Maria Klein
DTSTAMP:20260419T224647Z
LOCATION:Pürgen
SUMMARY:WEISELRICHTIG - Praxis - September im Bienenvolk - Varroareduziert 
 Imkern - Pürgen
END:VEVENT
END:VCALENDAR
