BEGIN:VCALENDAR
VERSION:2.0
PRODID:-//pretix//pretix.eu//
BEGIN:VEVENT
UID:pretix-weiselrichtig-vri-online251-0@pretix.eu
DTSTART;VALUE=DATE:20251225
DTEND;VALUE=DATE:20251226
DESCRIPTION:Tickets: https://pretix.eu/weiselrichtig/vri-online251/\nVerans
 talter: WEISELRICHTIG Imkerschule - Adelheid Maria Klein
DTSTAMP:20260424T162602Z
LOCATION:Online
SUMMARY:VRI-Jahreskurs **ONLINE** im angepassten Brutraum - Neueinsteiger/U
 msteiger - Einstieg jederzeit möglich
END:VEVENT
BEGIN:VEVENT
UID:pretix-weiselrichtig-profi-tipps25-0@pretix.eu
DTSTART;VALUE=DATE:20260501
DTEND;VALUE=DATE:20260502
DESCRIPTION:Tickets: https://pretix.eu/weiselrichtig/profi-tipps25/\nVerans
 talter: WEISELRICHTIG Imkerschule - Adelheid Maria Klein
DTSTAMP:20260424T162602Z
LOCATION:Online-Stammtisch
SUMMARY:Kaffee-Spende: ich bin dankbar für die Profi-Tipps
END:VEVENT
END:VCALENDAR
