BEGIN:VCALENDAR
VERSION:2.0
PRODID:-//pretix//pretix.eu//
BEGIN:VEVENT
UID:pretix-weiselrichtig-vri-april9wsej-0@pretix.eu
DTSTART;VALUE=DATE:20210425
DTEND;VALUE=DATE:20210426
DESCRIPTION:Tickets: https://pretix.eu/weiselrichtig/vri-april9wsej/\nVeran
 stalter: WEISELRICHTIG Imkerschule - Adelheid Maria Klein
DTSTAMP:20260419T191009Z
LOCATION:Esting
SUMMARY:VRI-Praxis - Bienen im April - 25.4. Olching
END:VEVENT
END:VCALENDAR
