BEGIN:VCALENDAR
VERSION:2.0
PRODID:-//pretix//pretix.eu//
BEGIN:VEVENT
UID:pretix-weiselrichtig-vri-maialudz-0@pretix.eu
DTSTART;VALUE=DATE:20210529
DTEND;VALUE=DATE:20210530
DESCRIPTION:Tickets: https://pretix.eu/weiselrichtig/vri-maialudz/\nVeranst
 alter: WEISELRICHTIG Imkerschule - Adelheid Maria Klein
DTSTAMP:20260419T191013Z
LOCATION:Pürgen
SUMMARY:VRI-Praxis - Mai: Ableger und Honigernte - 29.05. Pürgen
END:VEVENT
END:VCALENDAR
